BEGIN:VCALENDAR
VERSION:2.0
PRODID:-//Ped Safe Vegas - ECPv6.15.20//NONSGML v1.0//EN
CALSCALE:GREGORIAN
METHOD:PUBLISH
X-ORIGINAL-URL:https://pedsafe.vegas
X-WR-CALDESC:Events for Ped Safe Vegas
REFRESH-INTERVAL;VALUE=DURATION:PT1H
X-Robots-Tag:noindex
X-PUBLISHED-TTL:PT1H
BEGIN:VTIMEZONE
TZID:America/Los_Angeles
BEGIN:DAYLIGHT
TZOFFSETFROM:-0800
TZOFFSETTO:-0700
TZNAME:PDT
DTSTART:20170312T100000
END:DAYLIGHT
BEGIN:STANDARD
TZOFFSETFROM:-0700
TZOFFSETTO:-0800
TZNAME:PST
DTSTART:20171105T090000
END:STANDARD
BEGIN:DAYLIGHT
TZOFFSETFROM:-0800
TZOFFSETTO:-0700
TZNAME:PDT
DTSTART:20180311T100000
END:DAYLIGHT
BEGIN:STANDARD
TZOFFSETFROM:-0700
TZOFFSETTO:-0800
TZNAME:PST
DTSTART:20181104T090000
END:STANDARD
BEGIN:DAYLIGHT
TZOFFSETFROM:-0800
TZOFFSETTO:-0700
TZNAME:PDT
DTSTART:20190310T100000
END:DAYLIGHT
BEGIN:STANDARD
TZOFFSETFROM:-0700
TZOFFSETTO:-0800
TZNAME:PST
DTSTART:20191103T090000
END:STANDARD
END:VTIMEZONE
BEGIN:VEVENT
DTSTART;TZID=America/Los_Angeles:20180929T090000
DTEND;TZID=America/Los_Angeles:20180929T170000
DTSTAMP:20260424T040401
CREATED:20181008T025243Z
LAST-MODIFIED:20181022T053107Z
UID:1488-1538211600-1538240400@pedsafe.vegas
SUMMARY:Old Navy Super Safety Event
DESCRIPTION:Nationally\, old Navy celebrated their annual “Super Safety Event” across the USA on September 29th\, by focusing on childhood safety. Stores across the country partnered with the Center for Missing and Exploited Children and with community partners to make their city safer. \nPed Safe Nevada was lucky to partner with the Boulevard Mall and the Old Navy store there.  We brought bicycle and pedestrian safety to  the event in a major way! Armed with free helmets for the kids attending\, provided by NDOT’s Bicycle and Pedestrian Safety program\, we fitted close to 100 kids with helmets. \nLEARN MORE >>>
URL:https://pedsafe.vegas/event/old-navy-super-safety-event/
LOCATION:NV
CATEGORIES:Latest Events
END:VEVENT
END:VCALENDAR