BEGIN:VCALENDAR
VERSION:2.0
PRODID:-//Ped Safe Vegas - ECPv6.15.20//NONSGML v1.0//EN
CALSCALE:GREGORIAN
METHOD:PUBLISH
X-WR-CALNAME:Ped Safe Vegas
X-ORIGINAL-URL:https://pedsafe.vegas
X-WR-CALDESC:Events for Ped Safe Vegas
REFRESH-INTERVAL;VALUE=DURATION:PT1H
X-Robots-Tag:noindex
X-PUBLISHED-TTL:PT1H
BEGIN:VTIMEZONE
TZID:America/Los_Angeles
BEGIN:DAYLIGHT
TZOFFSETFROM:-0800
TZOFFSETTO:-0700
TZNAME:PDT
DTSTART:20170312T100000
END:DAYLIGHT
BEGIN:STANDARD
TZOFFSETFROM:-0700
TZOFFSETTO:-0800
TZNAME:PST
DTSTART:20171105T090000
END:STANDARD
BEGIN:DAYLIGHT
TZOFFSETFROM:-0800
TZOFFSETTO:-0700
TZNAME:PDT
DTSTART:20180311T100000
END:DAYLIGHT
BEGIN:STANDARD
TZOFFSETFROM:-0700
TZOFFSETTO:-0800
TZNAME:PST
DTSTART:20181104T090000
END:STANDARD
BEGIN:DAYLIGHT
TZOFFSETFROM:-0800
TZOFFSETTO:-0700
TZNAME:PDT
DTSTART:20190310T100000
END:DAYLIGHT
BEGIN:STANDARD
TZOFFSETFROM:-0700
TZOFFSETTO:-0800
TZNAME:PST
DTSTART:20191103T090000
END:STANDARD
END:VTIMEZONE
BEGIN:VEVENT
DTSTART;TZID=America/Los_Angeles:20181025T160000
DTEND;TZID=America/Los_Angeles:20181025T190000
DTSTAMP:20260424T021604
CREATED:20181022T045211Z
LAST-MODIFIED:20181022T194728Z
UID:1533-1540483200-1540494000@pedsafe.vegas
SUMMARY:Halloween Trunk or Treat and Light Parade
DESCRIPTION:Halloween Trunk or Treat and Light Parade!\nIf you are in Las Vegas on October 25th\, grab your kids\, in costume if you’d like to\, and head over to the Cambridge Recreation Center\, 3930 Cambridge Street\, just north of Flamingo and a block west of Maryland Parkway; for a Trunk or Treat event and Electric Light Parade! This event will be so much fun for the family! \nTwo great volunteers\, Soo Clinton and Scott Kavula\, who became dedicated advocates to pedestrian safety when Soo was driving home one Halloween and came very close to hitting a child trick or treating\, they developed a lighted basket that we have been lucky enough to partner with them to get out to kids for many years. \nFor this event\, Clinton and Kavula have donated a light-up wand\, with multi-colored lights\, and they have rented cotton candy machines for this event\, so we will be using the wands as sticks for the candy and the kids will have the wands to take with them. \nOther partners\, such as RTC Bike Program\, UMC Trauma and Look Out\, Kids About\, will join UNLV’s Vulnerable Road Users Project and CCSD Police\, to pass out additional lights and flashers to kids attending\, with messages about safe walking and biking on Halloween night and every night. \nThe larger Trunk or Treat event is sponsored by LVMPD’s South Central Area Command\, and will include other Metro partners\, games\, fun and many police and EMS vehicles with decorated trunks full of candy. \nBring your family for a great time and lasting benefits!
URL:https://pedsafe.vegas/event/halloween-trunk-or-treat-and-light-parade/
LOCATION:Cambridge Recreation Center / Myrna Torme Williams Campus\, 3930 Cambridge St.\, Las Vegas\, NV\, 89119\, United States
CATEGORIES:Latest Events
ATTACH;FMTTYPE=image/jpeg:https://pedsafe.vegas/wp-content/uploads/2018/10/Trunk-or-Treat-Poster2.jpg
END:VEVENT
BEGIN:VEVENT
DTSTART;TZID=America/Los_Angeles:20181030T073000
DTEND;TZID=America/Los_Angeles:20181030T113000
DTSTAMP:20260424T021604
CREATED:20181022T052150Z
LAST-MODIFIED:20181023T022752Z
UID:1538-1540884600-1540899000@pedsafe.vegas
SUMMARY:The Great Pumpkin Rides Again
DESCRIPTION:The Great Pumpkin Rides Again \nTuesday\, October 23rd is the annual Pumpkin in the Crosswalk\, this year taking place on Decatur Boulevard at Palmyra Avenue from 7:30 am to 11:30 am. This location is a school crossing zone that has no flashers\, just signs marking the zone\, where it is difficult\, even with a crossing guard\, to get safely across the street. This location is on the list for a full build out and flashers later this school year through CC Public Works. And here’s a treat for you…. Pay special attention this month because LVMPD is stepping up pedestrian enforcement as their focus area. With shorter days and the coming time change\, this is the most dangerous time of the year for those on foot!.
URL:https://pedsafe.vegas/event/the-great-pumpkin-rides-again/
LOCATION:NV
CATEGORIES:Latest Events
ATTACH;FMTTYPE=image/png:https://pedsafe.vegas/wp-content/uploads/2018/10/Pedestrian-Policeman-in-Pumpkin-Suit.png
END:VEVENT
END:VCALENDAR