BEGIN:VCALENDAR
VERSION:2.0
PRODID:-//Ped Safe Vegas - ECPv6.15.20//NONSGML v1.0//EN
CALSCALE:GREGORIAN
METHOD:PUBLISH
X-WR-CALNAME:Ped Safe Vegas
X-ORIGINAL-URL:https://pedsafe.vegas
X-WR-CALDESC:Events for Ped Safe Vegas
REFRESH-INTERVAL;VALUE=DURATION:PT1H
X-Robots-Tag:noindex
X-PUBLISHED-TTL:PT1H
BEGIN:VTIMEZONE
TZID:America/Los_Angeles
BEGIN:DAYLIGHT
TZOFFSETFROM:-0800
TZOFFSETTO:-0700
TZNAME:PDT
DTSTART:20180311T100000
END:DAYLIGHT
BEGIN:STANDARD
TZOFFSETFROM:-0700
TZOFFSETTO:-0800
TZNAME:PST
DTSTART:20181104T090000
END:STANDARD
BEGIN:DAYLIGHT
TZOFFSETFROM:-0800
TZOFFSETTO:-0700
TZNAME:PDT
DTSTART:20190310T100000
END:DAYLIGHT
BEGIN:STANDARD
TZOFFSETFROM:-0700
TZOFFSETTO:-0800
TZNAME:PST
DTSTART:20191103T090000
END:STANDARD
BEGIN:DAYLIGHT
TZOFFSETFROM:-0800
TZOFFSETTO:-0700
TZNAME:PDT
DTSTART:20200308T100000
END:DAYLIGHT
BEGIN:STANDARD
TZOFFSETFROM:-0700
TZOFFSETTO:-0800
TZNAME:PST
DTSTART:20201101T090000
END:STANDARD
END:VTIMEZONE
BEGIN:VEVENT
DTSTART;TZID=America/Los_Angeles:20190417T110000
DTEND;TZID=America/Los_Angeles:20190417T170000
DTSTAMP:20260423T153753
CREATED:20190416T041913Z
LAST-MODIFIED:20190416T044033Z
UID:1822-1555498800-1555520400@pedsafe.vegas
SUMMARY:Wet'n'Wild to Hold Fundraiser for Jonny Smith Memorial
DESCRIPTION:Wet’n’Wild Las Vegas will host a fundraiser for Jonny Smith\, a 12-year-old boy who was struck by a car and killed crossing the street from Faiss Middle School\, on Wednesday\, April 17. The park will donate $1 from every ticket sold to the In Memory of Jonny Smith Go Fund Me Page. UNLV’s Vulnerable Road Users Project will be on hand all day providing information and holding pedestrian safety demonstrations. \nIn an effort to support the surrounding community and help Jonny Smith’s family heal\, Wet’n’Wild will host a fundraiser to honor the memory of Jonny Smith\, where $1 from every ticket sold will be donated to the In Memory of Jonny Smith Go Fund Me Page. Additionally\, safety demonstrations by UNLV’s Vulnerable Road Users Project will take place throughout the day on Wednesday. The demonstrations will include a functioning traffic signal and roll out crosswalk where guests can learn about proper crosswalk safety. Guests will also be informed on what to do when there are no traffic signals\, as well as how to stay as safe as possible at all times.
URL:https://pedsafe.vegas/event/wetnwild-to-hold-fundraiser-for-jonny-smith-memorial/
LOCATION:NV
CATEGORIES:Latest Events
ATTACH;FMTTYPE=image/jpeg:https://pedsafe.vegas/wp-content/uploads/2019/04/Wet-and-Wild-Vulnerable-Road-Users3-e1555389546608.jpg
END:VEVENT
END:VCALENDAR