BEGIN:VCALENDAR
VERSION:2.0
PRODID:-//Ped Safe Vegas - ECPv6.15.20//NONSGML v1.0//EN
CALSCALE:GREGORIAN
METHOD:PUBLISH
X-ORIGINAL-URL:https://pedsafe.vegas
X-WR-CALDESC:Events for Ped Safe Vegas
REFRESH-INTERVAL;VALUE=DURATION:PT1H
X-Robots-Tag:noindex
X-PUBLISHED-TTL:PT1H
BEGIN:VTIMEZONE
TZID:America/Los_Angeles
BEGIN:DAYLIGHT
TZOFFSETFROM:-0800
TZOFFSETTO:-0700
TZNAME:PDT
DTSTART:20190310T100000
END:DAYLIGHT
BEGIN:STANDARD
TZOFFSETFROM:-0700
TZOFFSETTO:-0800
TZNAME:PST
DTSTART:20191103T090000
END:STANDARD
BEGIN:DAYLIGHT
TZOFFSETFROM:-0800
TZOFFSETTO:-0700
TZNAME:PDT
DTSTART:20200308T100000
END:DAYLIGHT
BEGIN:STANDARD
TZOFFSETFROM:-0700
TZOFFSETTO:-0800
TZNAME:PST
DTSTART:20201101T090000
END:STANDARD
BEGIN:DAYLIGHT
TZOFFSETFROM:-0800
TZOFFSETTO:-0700
TZNAME:PDT
DTSTART:20210314T100000
END:DAYLIGHT
BEGIN:STANDARD
TZOFFSETFROM:-0700
TZOFFSETTO:-0800
TZNAME:PST
DTSTART:20211107T090000
END:STANDARD
END:VTIMEZONE
BEGIN:VEVENT
DTSTART;TZID=America/Los_Angeles:20200219T150000
DTEND;TZID=America/Los_Angeles:20200219T180000
DTSTAMP:20260423T000221
CREATED:20200205T032452Z
LAST-MODIFIED:20200205T033205Z
UID:2367-1582124400-1582135200@pedsafe.vegas
SUMMARY:Pedsafe Nevada Needs You To Participate in a Focus Group!
DESCRIPTION:On Wednesday\, February 19th at 3 pm\, we are offering a focus group whose purpose is making positive changes in our program. \nThis group will include all the laws and issues you need to know to not get a pedestrian citation. Then we will continue with participants discussing thoughts on pedestrian behavior statements. We will wind up by going over changes to our pre and post surveys for monthly safety class. \nThis will be interactive and fun! It is also offered earlier in the day and mid-week. \nIf you are interested in participating in this focus group please click here to register. This event will last approximately 3 hours. You will receive additional details after you register. \nThanks you so much\, hope to see you there. \nErin Breen\nDirector\, UNLV’s Vulnerable Road Users Project
URL:https://pedsafe.vegas/event/pedsafe-nevada-needs-you-to-participate-in-a-focus-group/
LOCATION:NV
CATEGORIES:Latest Events,Training
ATTACH;FMTTYPE=image/png:https://pedsafe.vegas/wp-content/uploads/2020/02/Focus-Group-Participants-Needed-.png
END:VEVENT
END:VCALENDAR