BEGIN:VCALENDAR
VERSION:2.0
PRODID:-//Ped Safe Vegas - ECPv6.15.20//NONSGML v1.0//EN
CALSCALE:GREGORIAN
METHOD:PUBLISH
X-WR-CALNAME:Ped Safe Vegas
X-ORIGINAL-URL:https://pedsafe.vegas
X-WR-CALDESC:Events for Ped Safe Vegas
REFRESH-INTERVAL;VALUE=DURATION:PT1H
X-Robots-Tag:noindex
X-PUBLISHED-TTL:PT1H
BEGIN:VTIMEZONE
TZID:America/Los_Angeles
BEGIN:DAYLIGHT
TZOFFSETFROM:-0800
TZOFFSETTO:-0700
TZNAME:PDT
DTSTART:20200308T100000
END:DAYLIGHT
BEGIN:STANDARD
TZOFFSETFROM:-0700
TZOFFSETTO:-0800
TZNAME:PST
DTSTART:20201101T090000
END:STANDARD
BEGIN:DAYLIGHT
TZOFFSETFROM:-0800
TZOFFSETTO:-0700
TZNAME:PDT
DTSTART:20210314T100000
END:DAYLIGHT
BEGIN:STANDARD
TZOFFSETFROM:-0700
TZOFFSETTO:-0800
TZNAME:PST
DTSTART:20211107T090000
END:STANDARD
BEGIN:DAYLIGHT
TZOFFSETFROM:-0800
TZOFFSETTO:-0700
TZNAME:PDT
DTSTART:20220313T100000
END:DAYLIGHT
BEGIN:STANDARD
TZOFFSETFROM:-0700
TZOFFSETTO:-0800
TZNAME:PST
DTSTART:20221106T090000
END:STANDARD
END:VTIMEZONE
BEGIN:VEVENT
DTSTART;TZID=America/Los_Angeles:20211001T080000
DTEND;TZID=America/Los_Angeles:20211120T170000
DTSTAMP:20260421T185644
CREATED:20211029T165316Z
LAST-MODIFIED:20211122T043248Z
UID:3719-1633075200-1637427600@pedsafe.vegas
SUMMARY:Online Pedestrian Safety Classes for October - November 2021
DESCRIPTION:Online Pedestrian Safety\nTraining Class\nPed Safe Nevada offers online pedestrian safety training classes several times per month. If you are here because you received a citation due to a pedestrian violation (as a driver or a walker) this class can allow you to have your fine dismissed and your points erased. \nActualmente no tenemos una versión en línea de nuestra clase de seguridad para peatones de habla hispana. Vuelva a consultar periódicamente o “Contáctenos” para obtener más información. \nClass Overview:\nOur online pedestrian safety class lasts three hours and includes: \n\nIntroduction to Pedestrian Safety\nHistorical Data On Pedestrian Crashes and How We Got Here\nCase Studies On Pedestrian Fatalities\nAlert Today Alive Tomorrow Program\nLooking Out For Pedestrians\nWho Holds the Blame\nPedestrian Do’s and Don’ts For Walkers\, Bikers and Drivers\nLaws You Should Know\nProtecting Special Populations\n\nRegistration:\nTo register for our online class just follow these important steps. \nStep 1: ZOOM Test \nWe use ZOOM.COM for our online training. You must test your computer or smartphone to confirm you are able to attend the call. \nUsing Your Computer or Tablet: (Preferred Method) \nCLICK HERE or Go To: https://zoom.us/test and follow the instructions to “Join Meeting Test”. Make sure to allow ZOOM to use your Camera and Internet Audio. \n            Using Your Smartphone \nDownload the “ZOOM Cloud Meetings” App. \nUsing your smartphone browser CLICK HERE or Go To https://zoom.us/test. Click on the “Join” button. This will automatically launch the ZOOM App and you will be asked to join a meeting. Click on the “Join” button and “Join with Video”. Follow the instructions and allow ZOOM to use your Camera and Internet Audio. \nNote:   You will not be able to attend the class without your Camera and Internet Audio turned ON. \nStep 2: Register For the Class \nChoose the date for the class you would like to attend and click on the corresponding date buttons below. \n  \n     
URL:https://pedsafe.vegas/event/online-pedestrian-safety-classes-for-october-november-2021/
LOCATION:Online Training
CATEGORIES:Latest Events,Online Training,Pedestrian Safety Class,Safety Classes,Training
ATTACH;FMTTYPE=image/png:https://pedsafe.vegas/wp-content/uploads/2020/03/Pedestrian-Training.png
END:VEVENT
BEGIN:VEVENT
DTSTART;TZID=America/Los_Angeles:20211001T080500
DTEND;TZID=America/Los_Angeles:20211119T170000
DTSTAMP:20260421T185644
CREATED:20211029T164730Z
LAST-MODIFIED:20211122T043210Z
UID:3714-1633075500-1637341200@pedsafe.vegas
SUMMARY:In-Person Pedestrian Safety Classes For October - November 2021
DESCRIPTION:IN-PERSON Pedestrian Safety Classes are offered throughout the month depending on demand. Each class lasts approximately Three Hours. \nWe hold classes at these two Recreation Centers: \nCambridge Recreation Center\n3930 Cambridge St.\, Las Vegas\, NV 89119 (702) 455-7169 \nWhitney Ranch Recreation Center\n5712 Missouri Avenue\, Henderson\, NV 89122 (702) 455-7576  \nAfter you register for the class you would like to attend you will receive a confirmation email. You will also receive additional information and directions to the class. \nUpcoming Dates: \n \nLas clases de seguridad para peatones en español EN PERSONA no se ofrecen actualmente debido a problemas con COVID 19. Comuníquese con nosotros para obtener más información. \n  \nYOU MUST BE REGISTERED IN ADVANCE TO ATTEND CLASS!\n \n 
URL:https://pedsafe.vegas/event/in-person-pedestrian-safety-classes-for-october-november-2021/
LOCATION:NV
CATEGORIES:Latest Events,Pedestrian Safety Class,Training
ATTACH;FMTTYPE=image/png:https://pedsafe.vegas/wp-content/uploads/2020/03/Pedestrian-Training.png
END:VEVENT
END:VCALENDAR