BEGIN:VCALENDAR
VERSION:2.0
PRODID:-//Ped Safe Vegas - ECPv6.15.20//NONSGML v1.0//EN
CALSCALE:GREGORIAN
METHOD:PUBLISH
X-ORIGINAL-URL:https://pedsafe.vegas
X-WR-CALDESC:Events for Ped Safe Vegas
REFRESH-INTERVAL;VALUE=DURATION:PT1H
X-Robots-Tag:noindex
X-PUBLISHED-TTL:PT1H
BEGIN:VTIMEZONE
TZID:America/Los_Angeles
BEGIN:DAYLIGHT
TZOFFSETFROM:-0800
TZOFFSETTO:-0700
TZNAME:PDT
DTSTART:20230312T100000
END:DAYLIGHT
BEGIN:STANDARD
TZOFFSETFROM:-0700
TZOFFSETTO:-0800
TZNAME:PST
DTSTART:20231105T090000
END:STANDARD
BEGIN:DAYLIGHT
TZOFFSETFROM:-0800
TZOFFSETTO:-0700
TZNAME:PDT
DTSTART:20240310T100000
END:DAYLIGHT
BEGIN:STANDARD
TZOFFSETFROM:-0700
TZOFFSETTO:-0800
TZNAME:PST
DTSTART:20241103T090000
END:STANDARD
BEGIN:DAYLIGHT
TZOFFSETFROM:-0800
TZOFFSETTO:-0700
TZNAME:PDT
DTSTART:20250309T100000
END:DAYLIGHT
BEGIN:STANDARD
TZOFFSETFROM:-0700
TZOFFSETTO:-0800
TZNAME:PST
DTSTART:20251102T090000
END:STANDARD
END:VTIMEZONE
BEGIN:VEVENT
DTSTART;TZID=America/Los_Angeles:20240201T080000
DTEND;TZID=America/Los_Angeles:20240328T170000
DTSTAMP:20260419T071709
CREATED:20240204T173123Z
LAST-MODIFIED:20240926T160548Z
UID:5128-1706774400-1711645200@pedsafe.vegas
SUMMARY:Save A Life Win A MacBook 2024
DESCRIPTION:  \nGreetings! Welcome back to Pedsafe.Vegas and our exciting Save A Life\, Win A MacBook contest for 2024! We’re delighted to have you on board as we embark on another year of creativity and awareness. Get ready to make a difference and showcase your talent to the entire Las Vegas Valley. \nFor More Details\n>>> GO TO THE CONTEST WEBPAGE <<<
URL:https://pedsafe.vegas/event/save-a-life-win-a-macbook-2024/
LOCATION:Virtual Online PedSafe.Vegas
CATEGORIES:Latest Events
ATTACH;FMTTYPE=image/jpeg:https://pedsafe.vegas/wp-content/uploads/2024/02/Event-Banner.jpg
END:VEVENT
END:VCALENDAR