BEGIN:VCALENDAR
VERSION:2.0
PRODID:-//Ped Safe Vegas - ECPv6.15.20//NONSGML v1.0//EN
CALSCALE:GREGORIAN
METHOD:PUBLISH
X-WR-CALNAME:Ped Safe Vegas
X-ORIGINAL-URL:https://pedsafe.vegas
X-WR-CALDESC:Events for Ped Safe Vegas
REFRESH-INTERVAL;VALUE=DURATION:PT1H
X-Robots-Tag:noindex
X-PUBLISHED-TTL:PT1H
BEGIN:VTIMEZONE
TZID:America/Los_Angeles
BEGIN:DAYLIGHT
TZOFFSETFROM:-0800
TZOFFSETTO:-0700
TZNAME:PDT
DTSTART:20240310T100000
END:DAYLIGHT
BEGIN:STANDARD
TZOFFSETFROM:-0700
TZOFFSETTO:-0800
TZNAME:PST
DTSTART:20241103T090000
END:STANDARD
BEGIN:DAYLIGHT
TZOFFSETFROM:-0800
TZOFFSETTO:-0700
TZNAME:PDT
DTSTART:20250309T100000
END:DAYLIGHT
BEGIN:STANDARD
TZOFFSETFROM:-0700
TZOFFSETTO:-0800
TZNAME:PST
DTSTART:20251102T090000
END:STANDARD
BEGIN:DAYLIGHT
TZOFFSETFROM:-0800
TZOFFSETTO:-0700
TZNAME:PDT
DTSTART:20260308T100000
END:DAYLIGHT
BEGIN:STANDARD
TZOFFSETFROM:-0700
TZOFFSETTO:-0800
TZNAME:PST
DTSTART:20261101T090000
END:STANDARD
END:VTIMEZONE
BEGIN:VEVENT
DTSTART;TZID=America/Los_Angeles:20251117T170000
DTEND;TZID=America/Los_Angeles:20251117T183000
DTSTAMP:20260419T150051
CREATED:20251026T215625Z
LAST-MODIFIED:20251101T042202Z
UID:6180-1763398800-1763404200@pedsafe.vegas
SUMMARY:World Day of Remembrance 2025
DESCRIPTION:
URL:https://pedsafe.vegas/event/wdor-2025/
LOCATION:Clark County Government Center\, 500 S Grand Central Pkwy\, Las Vegas\, NV\, 89155
CATEGORIES:Latest Events
END:VEVENT
END:VCALENDAR